BEGIN:VCALENDAR
VERSION:2.0
PRODID:-//ChamberMaster//Event Calendar 2.0//EN
METHOD:PUBLISH
X-PUBLISHED-TTL:P3D
REFRESH-INTERVAL:P3D
CALSCALE:GREGORIAN
BEGIN:VEVENT
DTSTART;VALUE=DATE:20170429
DTEND;VALUE=DATE:20170430
TRANSP:TRANSPARENT
X-MICROSOFT-CDO-ALLDAYEVENT:TRUE
SUMMARY:Northstar Sportsmens Club Annual Banquet
DESCRIPTION:Fundraising Banquet\n\nMoondance Event Center\n\n\n\nTickets can be purchased at:  Leech Lake Lumber\, Walker Home Center\, Reeds Sporting Goods and at the door
X-ALT-DESC;FMTTYPE=text/html:Fundraising Banquet<br />\nMoondance Event Center<br />\n<br />\nTickets can be purchased at: &nbsp\;Leech Lake Lumber\, Walker Home Center\, Reeds Sporting Goods and at the door
LOCATION:Moondance Event Center
UID:e.11.9155
SEQUENCE:3
DTSTAMP:20260421T075904Z
URL:https://leechlake.mobileappview.com/events/details/northstar-sportsmens-club-annual-banquet-9155
END:VEVENT

END:VCALENDAR
