BEGIN:VCALENDAR
VERSION:2.0
PRODID:-//ChamberMaster//Event Calendar 2.0//EN
METHOD:PUBLISH
X-PUBLISHED-TTL:P3D
REFRESH-INTERVAL:P3D
CALSCALE:GREGORIAN
BEGIN:VEVENT
DTSTART:20170503T000000Z
DTEND:20170503T030000Z
X-MICROSOFT-CDO-ALLDAYEVENT:FALSE
SUMMARY:Norway Informational Meeting for Lakes North Chorale
DESCRIPTION:Three invitations have been received by the Lakes North Chorale to present a concert in towns of Gran\, Al and Lillehammer in June 2018.  11 day guided tour including Oslo.
X-ALT-DESC;FMTTYPE=text/html:Three invitations have been received by the Lakes North Chorale to present a concert in towns of Gran\, Al and Lillehammer in June 2018. &nbsp\;11 day guided tour including Oslo.
LOCATION:
UID:e.11.9433
SEQUENCE:3
DTSTAMP:20260421T061840Z
URL:https://leechlake.mobileappview.com/events/details/norway-informational-meeting-for-lakes-north-chorale-9433
END:VEVENT

END:VCALENDAR
