BEGIN:VCALENDAR
VERSION:2.0
PRODID:-//ChamberMaster//Event Calendar 2.0//EN
METHOD:PUBLISH
X-PUBLISHED-TTL:P3D
REFRESH-INTERVAL:P3D
CALSCALE:GREGORIAN
BEGIN:VEVENT
DTSTART;VALUE=DATE:20180627
DTEND;VALUE=DATE:20180628
TRANSP:TRANSPARENT
X-MICROSOFT-CDO-ALLDAYEVENT:TRUE
SUMMARY:Nunscence Las Vegas-Walker Bay Theatre
DESCRIPTION:Musical of 5 nuns dancing their way through Las Vegas. This is a Comedy.
X-ALT-DESC;FMTTYPE=text/html:Musical of 5 nuns dancing their way through Las Vegas. This is a Comedy.
LOCATION:Walker Bay Theatre 100 Highland Ave NW\, Walker
UID:e.11.16429
SEQUENCE:3
DTSTAMP:20260420T092422Z
URL:https://leechlake.mobileappview.com/events/details/nunscence-las-vegas-walker-bay-theatre-16429
END:VEVENT

END:VCALENDAR
