BEGIN:VCALENDAR
VERSION:2.0
PRODID:-//ChamberMaster//Event Calendar 2.0//EN
METHOD:PUBLISH
X-PUBLISHED-TTL:P3D
REFRESH-INTERVAL:P3D
CALSCALE:GREGORIAN
BEGIN:VEVENT
DTSTART;VALUE=DATE:20190401
DTEND;VALUE=DATE:20190403
TRANSP:TRANSPARENT
X-MICROSOFT-CDO-ALLDAYEVENT:TRUE
SUMMARY:Nutman Company
DESCRIPTION:Fundraiser featuring the Nutman Company.  Enjoy a selection of fine quality nuts\, chocolates\, snack mixes and candies
X-ALT-DESC;FMTTYPE=text/html:Fundraiser featuring the Nutman Company.&nbsp\; Enjoy a selection of fine quality nuts\, chocolates\, snack mixes and candies
LOCATION:Lower Level Comference Room
UID:e.11.19793
SEQUENCE:3
DTSTAMP:20260419T181800Z
URL:https://leechlake.mobileappview.com/events/details/nutman-company-19793
END:VEVENT

END:VCALENDAR
