BEGIN:VCALENDAR
VERSION:2.0
PRODID:-//ChamberMaster//Event Calendar 2.0//EN
METHOD:PUBLISH
X-PUBLISHED-TTL:P3D
REFRESH-INTERVAL:P3D
CALSCALE:GREGORIAN
BEGIN:VEVENT
DTSTART;VALUE=DATE:20181005
DTEND;VALUE=DATE:20181007
TRANSP:TRANSPARENT
X-MICROSOFT-CDO-ALLDAYEVENT:TRUE
SUMMARY:Octoberfest/Charlies
DESCRIPTION:Music by Frankly Country Entertainment
X-ALT-DESC;FMTTYPE=text/html:Music by Frankly Country Entertainment
LOCATION:Charlies up North
UID:e.11.16906
SEQUENCE:3
DTSTAMP:20260420T034722Z
URL:https://leechlake.mobileappview.com/events/details/octoberfest-charlies-16906
END:VEVENT

END:VCALENDAR
