BEGIN:VCALENDAR
VERSION:2.0
PRODID:-//ChamberMaster//Event Calendar 2.0//EN
METHOD:PUBLISH
X-PUBLISHED-TTL:P3D
REFRESH-INTERVAL:P3D
CALSCALE:GREGORIAN
BEGIN:VEVENT
DTSTART;VALUE=DATE:20171103
DTEND;VALUE=DATE:20171106
TRANSP:TRANSPARENT
X-MICROSOFT-CDO-ALLDAYEVENT:TRUE
SUMMARY:Oh Deer! Girls Gone Wild
DESCRIPTION:Weekend Getaway! Join us for shopping\, laughter and fun spending time with the girls.
X-ALT-DESC;FMTTYPE=text/html:Weekend Getaway! Join us for shopping\, laughter and fun spending time with the girls.
LOCATION:Camp Bliss 6150 Camp Fish Road Walker\, MN
UID:e.11.9442
SEQUENCE:3
DTSTAMP:20260420T203234Z
URL:https://leechlake.mobileappview.com/events/details/oh-deer-girls-gone-wild-9442
END:VEVENT

END:VCALENDAR
