BEGIN:VCALENDAR
VERSION:2.0
PRODID:-//ChamberMaster//Event Calendar 2.0//EN
METHOD:PUBLISH
X-PUBLISHED-TTL:P3D
REFRESH-INTERVAL:P3D
CALSCALE:GREGORIAN
BEGIN:VEVENT
DTSTART;VALUE=DATE:20161104
DTEND;VALUE=DATE:20161107
TRANSP:TRANSPARENT
X-MICROSOFT-CDO-ALLDAYEVENT:TRUE
SUMMARY:Oh Deer! Girls on the loose
DESCRIPTION:Weekend Getaway! Join us for shopping\, laughter and fun spending time with the girls.
X-ALT-DESC;FMTTYPE=text/html:Weekend Getaway! Join us for shopping\, laughter and fun spending time with the girls.
LOCATION:Camp Bliss 6150 Camp Fish Road Walker\, MN
UID:e.11.8301
SEQUENCE:3
DTSTAMP:20260421T155207Z
URL:https://leechlake.mobileappview.com/events/details/oh-deer-girls-on-the-loose-11-04-2016-8301
END:VEVENT

END:VCALENDAR
