BEGIN:VCALENDAR
VERSION:2.0
PRODID:-//ChamberMaster//Event Calendar 2.0//EN
METHOD:PUBLISH
X-PUBLISHED-TTL:P3D
REFRESH-INTERVAL:P3D
CALSCALE:GREGORIAN
BEGIN:VEVENT
DTSTART:20180922T170000Z
DTEND:20180923T000000Z
X-MICROSOFT-CDO-ALLDAYEVENT:FALSE
SUMMARY:Oktoberfest 2018-Bemidji Brewing
DESCRIPTION:Kick-off the Fall with the Region's largest Oktoberfest Celebration at Bemidji Brewing. Featuring fest beer\, ethnic music\, local food vendors and games for all ages---prost!
X-ALT-DESC;FMTTYPE=text/html:Kick-off the Fall with the Region&#39\;s largest Oktoberfest Celebration at Bemidji Brewing. Featuring fest beer\, ethnic music\, local food vendors and games for all ages---prost!
LOCATION:211 America Ave NW downtown Bemidji
UID:e.11.11865
SEQUENCE:3
DTSTAMP:20260420T051046Z
URL:https://leechlake.mobileappview.com/events/details/oktoberfest-2018-bemidji-brewing-11865
END:VEVENT

END:VCALENDAR
