BEGIN:VCALENDAR
VERSION:2.0
PRODID:-//ChamberMaster//Event Calendar 2.0//EN
METHOD:PUBLISH
X-PUBLISHED-TTL:P3D
REFRESH-INTERVAL:P3D
CALSCALE:GREGORIAN
BEGIN:VEVENT
DTSTART:20160917T170000Z
DTEND:20160917T230000Z
X-MICROSOFT-CDO-ALLDAYEVENT:FALSE
SUMMARY:Oktoberfest Bemidji Brewing 2016
DESCRIPTION:Festbier\n\nLive music\n\nFold Dancing\n\nfood vendors\n\ngame and Festivties
X-ALT-DESC;FMTTYPE=text/html:Festbier<br />\nLive music<br />\nFold Dancing<br />\nfood vendors<br />\ngame and Festivties
LOCATION:Bemidji Brewing
UID:e.11.8880
SEQUENCE:3
DTSTAMP:20260421T190920Z
URL:https://leechlake.mobileappview.com/events/details/oktoberfest-bemidji-brewing-2016-8880
END:VEVENT

END:VCALENDAR
