BEGIN:VCALENDAR
VERSION:2.0
PRODID:-//ChamberMaster//Event Calendar 2.0//EN
METHOD:PUBLISH
X-PUBLISHED-TTL:P3D
REFRESH-INTERVAL:P3D
CALSCALE:GREGORIAN
BEGIN:VEVENT
DTSTART;VALUE=DATE:20180425
DTEND;VALUE=DATE:20180427
TRANSP:TRANSPARENT
X-MICROSOFT-CDO-ALLDAYEVENT:TRUE
SUMMARY:On Loaf at a Time
DESCRIPTION:A Symposium on sex trafficking and sexual violence
X-ALT-DESC;FMTTYPE=text/html:A Symposium on sex trafficking and sexual violence
LOCATION:Wednesday April 25 Bear Pause Theater Hackensack Thursday April 26 WHA
UID:e.11.15016
SEQUENCE:3
DTSTAMP:20260420T122126Z
URL:https://leechlake.mobileappview.com/events/details/on-loaf-at-a-time-15016
END:VEVENT

END:VCALENDAR
