BEGIN:VCALENDAR
VERSION:2.0
PRODID:-//ChamberMaster//Event Calendar 2.0//EN
METHOD:PUBLISH
X-PUBLISHED-TTL:P3D
REFRESH-INTERVAL:P3D
CALSCALE:GREGORIAN
BEGIN:VEVENT
DTSTART:20160910T130000Z
DTEND:20160910T190000Z
X-MICROSOFT-CDO-ALLDAYEVENT:FALSE
SUMMARY:Open Class Car Show-Heartland Wheels Car Club 23rd Annual
DESCRIPTION:Registration 8:00 am\n\nAwards 1:30 pm
X-ALT-DESC;FMTTYPE=text/html:Registration 8:00 am<br />\nAwards 1:30 pm
LOCATION:Walker City Park
UID:e.11.5308
SEQUENCE:3
DTSTAMP:20260421T191623Z
URL:https://leechlake.mobileappview.com/events/details/open-class-car-show-heartland-wheels-car-club-23rd-annual-09-10-2016-5308
END:VEVENT

END:VCALENDAR
