BEGIN:VCALENDAR
VERSION:2.0
PRODID:-//ChamberMaster//Event Calendar 2.0//EN
METHOD:PUBLISH
X-PUBLISHED-TTL:P3D
REFRESH-INTERVAL:P3D
CALSCALE:GREGORIAN
BEGIN:VEVENT
DTSTART:20180418T180000Z
DTEND:20180418T200000Z
X-MICROSOFT-CDO-ALLDAYEVENT:FALSE
SUMMARY:Open for for Retirement of Nick Zubke & James Kolar
DESCRIPTION:The city of Walker cordially invites you to an open house in honor of Nick Zubke and James Kolar
X-ALT-DESC;FMTTYPE=text/html:The city of Walker cordially invites you to an open house in honor of Nick Zubke and James Kolar
LOCATION:City Hall
UID:e.11.16364
SEQUENCE:3
DTSTAMP:20260420T124124Z
URL:https://leechlake.mobileappview.com/events/details/open-for-for-retirement-of-nick-zubke-16364
END:VEVENT

END:VCALENDAR
