BEGIN:VCALENDAR
VERSION:2.0
PRODID:-//ChamberMaster//Event Calendar 2.0//EN
METHOD:PUBLISH
X-PUBLISHED-TTL:P3D
REFRESH-INTERVAL:P3D
CALSCALE:GREGORIAN
BEGIN:VEVENT
DTSTART:20160713T140000Z
DTEND:20160713T170000Z
X-MICROSOFT-CDO-ALLDAYEVENT:FALSE
SUMMARY:Paddling the route of Schoolcraft Canoe/Kayak Tour
DESCRIPTION:On this day in 1831\, Henry Rowe Schoolcraft and his exploration party were led by Ojibwe guide Ozawindib to Lake Itasca\, the source of the Mississippi River. Now\, 184 years later\, join the park naturalists as we explore Lake Itasca from a canoe (or kayak) during this morning paddle. The naturalists will share readings from Schoolcraft's journal\, as well as entries from other members of the party. The early portage routes within the Itasca basin make up some of the "first" hiking trails. Learn where Schoolcraft portaged in order to reach the source of the Mississippi River.\n\nNotes: bring your canoe or kayak. If you do not have a canoe or kayak\, limited numbers are for rent from the Itasca Sports Rental. Please rent your canoe or kayak before the program begins. You will need to be able to transport the boat from the rental area to the starting point of the tour. All persons must wear a life jacket while participating in this program. Program is weather
X-ALT-DESC;FMTTYPE=text/html:<span style="font-family:times new roman\,serif\;"><span style="font-size:12.0pt\;">On this day in 1831\, Henry Rowe Schoolcraft and his exploration party were led by Ojibwe guide Ozawindib to Lake Itasca\, the source of the Mississippi River. Now\, 184 years later\, join the park naturalists as we explore Lake Itasca from a canoe (or kayak) during this morning paddle. The naturalists will share readings from Schoolcraft&rsquo\;s journal\, as well as entries from other members of the party. The early portage routes within the Itasca basin make up some of the &ldquo\;first&rdquo\; hiking trails. Learn where Schoolcraft portaged in order to reach the source of the Mississippi River.</span></span><br />\n<span style="font-family:times new roman\,serif\;"><span style="font-size:12.0pt\;">Notes: bring your canoe or kayak. If you do not have a canoe or kayak\, limited numbers are for rent from the Itasca Sports Rental. Please rent your canoe or kayak before the program begins. You will need to be able to transport the boat from the rental area to the starting point of the tour. All persons must wear a life jacket while participating in this program. Program is weather&nbsp\;</span></span>
LOCATION:This specialty canoe tour is being offered as we celebrate 125 years of Minnesota State Parks and Trails and 100 years of the National Park Service. This event is sponsored by both Itasca State Park and the Itasca Moraine and Laurentian Lakes Chapters of the National North Country Trail. Learn more about the North Country Trail in Itasca State Park and east\, at the Itasca Moraine Chapter site: http://northcountrytrail.org/itm/ Learn more about the North Country Trail in Itasca State Park and west\, at the Laurentian Lakes Chapter site: http://northcountrytrail.org/llc/
UID:e.11.5251
SEQUENCE:3
DTSTAMP:20260421T224031Z
URL:https://leechlake.mobileappview.com/events/details/paddling-the-route-of-schoolcraft-canoe-kayak-tour-07-13-2016-5251
END:VEVENT

END:VCALENDAR
