BEGIN:VCALENDAR
VERSION:2.0
PRODID:-//ChamberMaster//Event Calendar 2.0//EN
METHOD:PUBLISH
X-PUBLISHED-TTL:P3D
REFRESH-INTERVAL:P3D
CALSCALE:GREGORIAN
BEGIN:VEVENT
DTSTART:20170715T120000Z
DTEND:20170715T150000Z
X-MICROSOFT-CDO-ALLDAYEVENT:FALSE
SUMMARY:Pancake Breakfast at Lake May
DESCRIPTION:Wild Blueberry or Regular
X-ALT-DESC;FMTTYPE=text/html:Wild Blueberry or Regular
LOCATION:
UID:e.11.10572
SEQUENCE:3
DTSTAMP:20260421T025757Z
URL:https://leechlake.mobileappview.com/events/details/pancake-breakfast-at-lake-may-10572
END:VEVENT

END:VCALENDAR
