BEGIN:VCALENDAR
VERSION:2.0
PRODID:-//ChamberMaster//Event Calendar 2.0//EN
METHOD:PUBLISH
X-PUBLISHED-TTL:P3D
REFRESH-INTERVAL:P3D
CALSCALE:GREGORIAN
BEGIN:VEVENT
DTSTART:20160814T123000Z
DTEND:20160814T173000Z
X-MICROSOFT-CDO-ALLDAYEVENT:FALSE
SUMMARY:Pancake Breakfast - Civil Air Patrol
DESCRIPTION:Made from Scratch\n\nButtermilk Pancakes\n\nSausage\n\nJuice
X-ALT-DESC;FMTTYPE=text/html:Made from Scratch<br />\nButtermilk Pancakes<br />\nSausage<br />\nJuice
LOCATION:Walker Airport Y-49 9787 Highway 371 Walker\, MN 56484
UID:e.11.8841
SEQUENCE:3
DTSTAMP:20260421T205512Z
URL:https://leechlake.mobileappview.com/events/details/pancake-breakfast-civil-air-patrol-08-14-2016-8841
END:VEVENT

END:VCALENDAR
