BEGIN:VCALENDAR
VERSION:2.0
PRODID:-//ChamberMaster//Event Calendar 2.0//EN
METHOD:PUBLISH
X-PUBLISHED-TTL:P3D
REFRESH-INTERVAL:P3D
CALSCALE:GREGORIAN
BEGIN:VEVENT
DTSTART:20171202T150000Z
DTEND:20171202T200000Z
X-MICROSOFT-CDO-ALLDAYEVENT:FALSE
SUMMARY:Parade of Trees
DESCRIPTION:Family Safety Network\n\nFirst Annual Parade of Trees
X-ALT-DESC;FMTTYPE=text/html:Family Safety Network<br />\nFirst Annual Parade of Trees
LOCATION:Union Congregational UCC in Hackensack
UID:e.11.11641
SEQUENCE:3
DTSTAMP:20260420T185525Z
URL:https://leechlake.mobileappview.com/events/details/parade-of-trees-11641
END:VEVENT

END:VCALENDAR
