BEGIN:VCALENDAR
VERSION:2.0
PRODID:-//ChamberMaster//Event Calendar 2.0//EN
METHOD:PUBLISH
X-PUBLISHED-TTL:P3D
REFRESH-INTERVAL:P3D
CALSCALE:GREGORIAN
BEGIN:VEVENT
DTSTART:20170919T170000Z
DTEND:20170919T170000Z
X-MICROSOFT-CDO-ALLDAYEVENT:FALSE
SUMMARY:Parkinson's Support Group Meeting
DESCRIPTION:Parkinson's Support Group will meet Tuesday\, September\, 19 at 1:30 p.m. in the theater room at Sanford Health Windsong Senior Living\, 1010 Anne St. NW\, Bemidji.   We are pleased to welcome Dr. Molnar of the University of Minnesota with a presentation on Parkinson's Disease and Deep Brain Stimulation.  This event is open to anyone with Parkinson's Disease\, friends or family.   For information call Jo Ann 218-547-3350.
X-ALT-DESC;FMTTYPE=text/html:Parkinson&#39\;s Support Group will meet Tuesday\, September\, 19 at 1:30 p.m. in the theater room at Sanford Health Windsong Senior Living\, 1010 Anne St. NW\, Bemidji. &nbsp\; We are pleased to welcome Dr. Molnar of the University of Minnesota with a presentation on Parkinson&#39\;s Disease and Deep Brain Stimulation.&nbsp\; This event is open to anyone with Parkinson&#39\;s Disease\, friends or family. &nbsp\; For information call Jo Ann 218-547-3350. &nbsp\;
LOCATION:Sanford Health Windsong Senior Living\, 1010 Anne Street NW\, Bemidji\, MN 56601
UID:e.11.10624
SEQUENCE:3
DTSTAMP:20260420T234055Z
URL:https://leechlake.mobileappview.com/events/details/parkinson-s-support-group-meeting-10624
END:VEVENT

END:VCALENDAR
