BEGIN:VCALENDAR
VERSION:2.0
PRODID:-//ChamberMaster//Event Calendar 2.0//EN
METHOD:PUBLISH
X-PUBLISHED-TTL:P3D
REFRESH-INTERVAL:P3D
CALSCALE:GREGORIAN
BEGIN:VEVENT
DTSTART:20180613T223000Z
DTEND:20180614T010000Z
X-MICROSOFT-CDO-ALLDAYEVENT:FALSE
SUMMARY:Passion for Fashion Style Show
DESCRIPTION:CHI St. Joseph's Health Auxiliary fundraiser.  Fashion\, Food and door prizes.
X-ALT-DESC;FMTTYPE=text/html:CHI St. Joseph&#39\;s Health Auxiliary fundraiser. &nbsp\;Fashion\, Food and door prizes. &nbsp\;<br />\n&nbsp\;
LOCATION:Faithbridge Church
UID:e.11.16474
SEQUENCE:3
DTSTAMP:20260420T092145Z
URL:https://leechlake.mobileappview.com/events/details/passion-for-fashion-style-show-16474
END:VEVENT

END:VCALENDAR
