BEGIN:VCALENDAR
VERSION:2.0
PRODID:-//ChamberMaster//Event Calendar 2.0//EN
METHOD:PUBLISH
X-PUBLISHED-TTL:P3D
REFRESH-INTERVAL:P3D
CALSCALE:GREGORIAN
BEGIN:VEVENT
DTSTART:20161209T160000Z
DTEND:20161209T200000Z
X-MICROSOFT-CDO-ALLDAYEVENT:FALSE
SUMMARY:Paul Bunyan Communications Open House
DESCRIPTION:The Annual Paul Bunyan Communications Holiday Open House at Grand Rapids and Bemidji Offices\n\nCookies/hot apple cider\n\nPick up your 2016 Ornament\, 2017 Calendars and telephone Directory
X-ALT-DESC;FMTTYPE=text/html:The Annual Paul Bunyan Communications Holiday Open House at Grand Rapids and Bemidji Offices<br />\nCookies/hot apple cider<br />\nPick up your 2016 Ornament\, 2017 Calendars and telephone Directory
LOCATION:Grand Rapids and Bemidji
UID:e.11.9106
SEQUENCE:3
DTSTAMP:20260421T140728Z
URL:https://leechlake.mobileappview.com/events/details/paul-bunyan-communications-open-house-9106
END:VEVENT

END:VCALENDAR
