BEGIN:VCALENDAR
VERSION:2.0
PRODID:-//ChamberMaster//Event Calendar 2.0//EN
METHOD:PUBLISH
X-PUBLISHED-TTL:P3D
REFRESH-INTERVAL:P3D
CALSCALE:GREGORIAN
BEGIN:VEVENT
DTSTART;VALUE=DATE:20170707
DTEND;VALUE=DATE:20170709
TRANSP:TRANSPARENT
X-MICROSOFT-CDO-ALLDAYEVENT:TRUE
SUMMARY:Paws & Claws Rescue & Resort Grand Opening
DESCRIPTION:Grand Opening Celebration\n\nJoin us for an afternoon of food\, fun & furry Friends.\n\nAll proceeds benefit our adorable 4 footed friends.
X-ALT-DESC;FMTTYPE=text/html:Grand Opening Celebration<br />\nJoin us for an afternoon of food\, fun &amp\; furry Friends.<br />\nAll proceeds benefit our adorable 4 footed friends.
LOCATION:2949 State Hwy 371 NW Hackensack\, MN
UID:e.11.10551
SEQUENCE:3
DTSTAMP:20260421T025958Z
URL:https://leechlake.mobileappview.com/events/details/paws-claws-rescue-resort-grand-opening-10551
END:VEVENT

END:VCALENDAR
