BEGIN:VCALENDAR
VERSION:2.0
PRODID:-//ChamberMaster//Event Calendar 2.0//EN
METHOD:PUBLISH
X-PUBLISHED-TTL:P3D
REFRESH-INTERVAL:P3D
CALSCALE:GREGORIAN
BEGIN:VEVENT
DTSTART:20171125T210000Z
DTEND:20171126T000000Z
X-MICROSOFT-CDO-ALLDAYEVENT:FALSE
SUMMARY:Peculiar Painter Holiday Open House
DESCRIPTION:Warm Swedish Glogg and Cookies\n\nIn store specials
X-ALT-DESC;FMTTYPE=text/html:Warm Swedish Glogg and Cookies<br />\nIn store specials
LOCATION:Peculiar Painter Walker\, MN
UID:e.11.12493
SEQUENCE:3
DTSTAMP:20260420T203156Z
URL:https://leechlake.mobileappview.com/events/details/peculiar-painter-holiday-open-house-12493
END:VEVENT

END:VCALENDAR
