BEGIN:VCALENDAR
VERSION:2.0
PRODID:-//ChamberMaster//Event Calendar 2.0//EN
METHOD:PUBLISH
X-PUBLISHED-TTL:P3D
REFRESH-INTERVAL:P3D
CALSCALE:GREGORIAN
BEGIN:VEVENT
DTSTART:20180203T200000Z
DTEND:20180204T000000Z
X-MICROSOFT-CDO-ALLDAYEVENT:FALSE
SUMMARY:Permit to Carry (Concealed Carry) Class - Laporte
DESCRIPTION:*Class Cost: $100 plus range fee *Additional Add on State options *Gun rental available $10 *Includes a free month paid LegalShield Services a $25 value For more information or to register please check out our website: http://www.permit-to-carry.com/laporte_permit_to_carry_conceal_carry_class.html What will you learn in the concealed carry class? *Handgun safety *Conflict avoidance *Out of State Travel *Shooting Qualification *Weapon's familiarization *Everyday police encounters *Mechanics of everyday carry *Choosing a handgun for carry *Deadly Force and its Aftermath *The law of Use and Threat of Deadly Force *The Permit to Carry Application and Appeal Process *An overview of Minnesota Permit to Carry\, North Dakota Permit to Carry and Utah Permit to Carry laws.
X-ALT-DESC;FMTTYPE=text/html:*Class Cost: $100 plus range fee *Additional Add on State options *Gun rental available $10 *Includes a free month paid LegalShield Services a $25 value For more information or to register please check out our website: http://www.permit-to-carry.com/laporte_permit_to_carry_conceal_carry_class.html What will you learn in the concealed carry class? *Handgun safety *Conflict avoidance *Out of State Travel *Shooting Qualification *Weapon&#39\;s familiarization *Everyday police encounters *Mechanics of everyday carry *Choosing a handgun for carry *Deadly Force and its Aftermath *The law of Use and Threat of Deadly Force *The Permit to Carry Application and Appeal Process *An overview of Minnesota Permit to Carry\, North Dakota Permit to Carry and Utah Permit to Carry laws.
LOCATION:Built in the Rock Farm\, 26930 474th St\, Laporte\, MN 56461
UID:e.11.12979
SEQUENCE:3
DTSTAMP:20260420T153205Z
URL:https://leechlake.mobileappview.com/events/details/permit-to-carry-concealed-carry-class-laporte-12979
END:VEVENT

END:VCALENDAR
