BEGIN:VCALENDAR
VERSION:2.0
PRODID:-//ChamberMaster//Event Calendar 2.0//EN
METHOD:PUBLISH
X-PUBLISHED-TTL:P3D
REFRESH-INTERVAL:P3D
CALSCALE:GREGORIAN
BEGIN:VEVENT
DTSTART;VALUE=DATE:20160626
DTEND;VALUE=DATE:20160627
TRANSP:TRANSPARENT
X-MICROSOFT-CDO-ALLDAYEVENT:TRUE
SUMMARY:Pig and Pie Celebration-Calvary Church
DESCRIPTION:Pig and PIe Celebration
X-ALT-DESC;FMTTYPE=text/html:Pig and PIe Celebration<br />\n&nbsp\;
LOCATION:Calvary Church Walker\, MN Hwy 371 N. Walker\, Across from Walker Ford
UID:e.11.8830
SEQUENCE:3
DTSTAMP:20260422T000151Z
URL:https://leechlake.mobileappview.com/events/details/pig-and-pie-celebration-calvary-church-06-26-2016-8830
END:VEVENT

END:VCALENDAR
