BEGIN:VCALENDAR
VERSION:2.0
PRODID:-//ChamberMaster//Event Calendar 2.0//EN
METHOD:PUBLISH
X-PUBLISHED-TTL:P3D
REFRESH-INTERVAL:P3D
CALSCALE:GREGORIAN
BEGIN:VEVENT
DTSTART;VALUE=DATE:20170818
DTEND;VALUE=DATE:20170820
TRANSP:TRANSPARENT
X-MICROSOFT-CDO-ALLDAYEVENT:TRUE
SUMMARY:Pioneer Farmers - Itasca State Park
DESCRIPTION:Lake Itasca Region Pioneer Farmers\n\nFood & Refreshments\n\nDaily Ev ents
X-ALT-DESC;FMTTYPE=text/html:Lake Itasca Region Pioneer Farmers<br />\nFood &amp\; Refreshments<br />\nDaily Ev ents
LOCATION:MN Hwy #200 at the North Entrace of Itasca State Park
UID:e.11.10575
SEQUENCE:3
DTSTAMP:20260421T011525Z
URL:https://leechlake.mobileappview.com/events/details/pioneer-farmers-itasca-state-park-10575
END:VEVENT

END:VCALENDAR
