BEGIN:VCALENDAR
VERSION:2.0
PRODID:-//ChamberMaster//Event Calendar 2.0//EN
METHOD:PUBLISH
X-PUBLISHED-TTL:P3D
REFRESH-INTERVAL:P3D
CALSCALE:GREGORIAN
BEGIN:VEVENT
DTSTART:20170520T180000Z
DTEND:20170520T200000Z
X-MICROSOFT-CDO-ALLDAYEVENT:FALSE
SUMMARY:Plant and Pie Sale
DESCRIPTION:We have everything you need to get your garden started:  annuals\, perennials\, Hanging baskets\, evergreens\, house plants and Much more.
X-ALT-DESC;FMTTYPE=text/html:We have everything you need to get your garden started: &nbsp\;annuals\, perennials\, Hanging baskets\, evergreens\, house plants and Much more.
LOCATION:Community Church 1100 Minnesota Ave. & Tianna Drive
UID:e.11.9431
SEQUENCE:3
DTSTAMP:20260421T061614Z
URL:https://leechlake.mobileappview.com/events/details/plant-and-pie-sale-9431
END:VEVENT

END:VCALENDAR
