BEGIN:VCALENDAR
VERSION:2.0
PRODID:-//ChamberMaster//Event Calendar 2.0//EN
METHOD:PUBLISH
X-PUBLISHED-TTL:P3D
REFRESH-INTERVAL:P3D
CALSCALE:GREGORIAN
BEGIN:VEVENT
DTSTART:20180504T140000Z
DTEND:20180504T220000Z
X-MICROSOFT-CDO-ALLDAYEVENT:FALSE
SUMMARY:Plant Day 1st National Bank North
DESCRIPTION:Free Plant
X-ALT-DESC;FMTTYPE=text/html:<p>&nbsp\;</p>\n\n<p>Free Plant</p>\n
LOCATION:All First National Banks
UID:e.11.12071
SEQUENCE:3
DTSTAMP:20260420T110026Z
URL:https://leechlake.mobileappview.com/events/details/plant-day-1st-national-bank-north-12071
END:VEVENT

END:VCALENDAR
