BEGIN:VCALENDAR
VERSION:2.0
PRODID:-//ChamberMaster//Event Calendar 2.0//EN
METHOD:PUBLISH
X-PUBLISHED-TTL:P3D
REFRESH-INTERVAL:P3D
CALSCALE:GREGORIAN
BEGIN:VEVENT
DTSTART:20170505T140000Z
DTEND:20170505T220000Z
X-MICROSOFT-CDO-ALLDAYEVENT:FALSE
SUMMARY:Plant Day-1st National Bank of Walker
DESCRIPTION:Free Plant
X-ALT-DESC;FMTTYPE=text/html:Free Plant
LOCATION:All First National Bank Locations
UID:e.11.8932
SEQUENCE:3
DTSTAMP:20260421T062100Z
URL:https://leechlake.mobileappview.com/events/details/plant-day-1st-national-bank-of-walker-8932
END:VEVENT

END:VCALENDAR
