BEGIN:VCALENDAR
VERSION:2.0
PRODID:-//ChamberMaster//Event Calendar 2.0//EN
METHOD:PUBLISH
X-PUBLISHED-TTL:P3D
REFRESH-INTERVAL:P3D
CALSCALE:GREGORIAN
BEGIN:VEVENT
DTSTART:20190924T200000Z
DTEND:20190925T000000Z
X-MICROSOFT-CDO-ALLDAYEVENT:FALSE
SUMMARY:Pop Up Produce Pantry
DESCRIPTION:Click Here\n\nFree Food for anyone in Need\n\nPlease bring boxes or bags to carry food
X-ALT-DESC;FMTTYPE=text/html:<a href="https://chambermaster.blob.core.windows.net/userfiles/UserFiles/chambers/11/File/leechlakecopier_20190918_153559_0001.jpg">Click Here</a><br />\nFree Food for anyone in Need<br />\nPlease bring boxes or bags to carry food
LOCATION:Walker Food Shelf 8243 Industrial Park Rd. Walker
UID:e.11.22545
SEQUENCE:3
DTSTAMP:20260419T140436Z
URL:https://leechlake.mobileappview.com/events/details/pop-up-produce-pantry-22545
END:VEVENT

END:VCALENDAR
