BEGIN:VCALENDAR
VERSION:2.0
PRODID:-//ChamberMaster//Event Calendar 2.0//EN
METHOD:PUBLISH
X-PUBLISHED-TTL:P3D
REFRESH-INTERVAL:P3D
CALSCALE:GREGORIAN
BEGIN:VEVENT
DTSTART:20180323T140000Z
DTEND:20180323T230000Z
X-MICROSOFT-CDO-ALLDAYEVENT:FALSE
SUMMARY:Pop UP Soup Shop
DESCRIPTION:All Proceeds Benefit Walker Food Shelf\n\n\n\nSponsored by Green Scene\n\nThrivent Financial
X-ALT-DESC;FMTTYPE=text/html:All Proceeds Benefit Walker Food Shelf<br />\n<br />\nSponsored by Green Scene<br />\nThrivent Financial
LOCATION:Green Scene
UID:e.11.14604
SEQUENCE:3
DTSTAMP:20260420T135904Z
URL:https://leechlake.mobileappview.com/events/details/pop-up-soup-shop-14604
END:VEVENT

END:VCALENDAR
