BEGIN:VCALENDAR
VERSION:2.0
PRODID:-//ChamberMaster//Event Calendar 2.0//EN
METHOD:PUBLISH
X-PUBLISHED-TTL:P3D
REFRESH-INTERVAL:P3D
CALSCALE:GREGORIAN
BEGIN:VEVENT
DTSTART;VALUE=DATE:20190325
DTEND;VALUE=DATE:20190326
TRANSP:TRANSPARENT
X-MICROSOFT-CDO-ALLDAYEVENT:TRUE
SUMMARY:Pop Up Soup Shop
DESCRIPTION:Click Here\n\nAll proceeds benefit Walker Food Shelf
X-ALT-DESC;FMTTYPE=text/html:<a href="https://chambermaster.blob.core.windows.net/userfiles/UserFiles/chambers/11/File/thriventsoup.jpg">Click Here</a><br />\nAll proceeds benefit Walker Food Shelf
LOCATION:Geen Scene Sponsors: Thrivent Financial & Green Scene
UID:e.11.19604
SEQUENCE:3
DTSTAMP:20260419T200010Z
URL:https://leechlake.mobileappview.com/events/details/pop-up-soup-shop-19604
END:VEVENT

END:VCALENDAR
