BEGIN:VCALENDAR
VERSION:2.0
PRODID:-//ChamberMaster//Event Calendar 2.0//EN
METHOD:PUBLISH
X-PUBLISHED-TTL:P3D
REFRESH-INTERVAL:P3D
CALSCALE:GREGORIAN
BEGIN:VEVENT
DTSTART:20171028T230000Z
DTEND:20171029T020000Z
X-MICROSOFT-CDO-ALLDAYEVENT:FALSE
SUMMARY:Portage Brewery Halloween Part
DESCRIPTION:Halloween Party\n\nCostume & Chili Cook off
X-ALT-DESC;FMTTYPE=text/html:Halloween Party<br />\nCostume &amp\; Chili Cook off
LOCATION:Portage Brewery 107 S. 5th St. Walker
UID:e.11.12470
SEQUENCE:3
DTSTAMP:20260420T221408Z
URL:https://leechlake.mobileappview.com/events/details/portage-brewery-halloween-part-12470
END:VEVENT

END:VCALENDAR
