BEGIN:VCALENDAR
VERSION:2.0
PRODID:-//ChamberMaster//Event Calendar 2.0//EN
METHOD:PUBLISH
X-PUBLISHED-TTL:P3D
REFRESH-INTERVAL:P3D
CALSCALE:GREGORIAN
BEGIN:VEVENT
DTSTART;VALUE=DATE:20171210
DTEND;VALUE=DATE:20171211
TRANSP:TRANSPARENT
X-MICROSOFT-CDO-ALLDAYEVENT:TRUE
SUMMARY:Portage Brewery Holiday Open House
DESCRIPTION:Holiday Stews and Brews\n\nhttps://www.facebook.com/events/150814572224493/permalink/151101762195774/
X-ALT-DESC;FMTTYPE=text/html:Holiday Stews and Brews<br />\nhttps://www.facebook.com/events/150814572224493/permalink/151101762195774/
LOCATION:Portage Brewery Walker\, MN
UID:e.11.12546
SEQUENCE:3
DTSTAMP:20260420T185704Z
URL:https://leechlake.mobileappview.com/events/details/portage-brewery-holiday-open-house-12546
END:VEVENT

END:VCALENDAR
