BEGIN:VCALENDAR
VERSION:2.0
PRODID:-//ChamberMaster//Event Calendar 2.0//EN
METHOD:PUBLISH
X-PUBLISHED-TTL:P3D
REFRESH-INTERVAL:P3D
CALSCALE:GREGORIAN
BEGIN:VEVENT
DTSTART;VALUE=DATE:20171203
DTEND;VALUE=DATE:20171204
TRANSP:TRANSPARENT
X-MICROSOFT-CDO-ALLDAYEVENT:TRUE
SUMMARY:Portage Brewery Paws and Claws
DESCRIPTION:Paws and Claws\n\nPhoto with Santa
X-ALT-DESC;FMTTYPE=text/html:Paws and Claws<br />\nPhoto with Santa
LOCATION:Portage Brewery Walker\, MN
UID:e.11.12554
SEQUENCE:3
DTSTAMP:20260420T185537Z
URL:https://leechlake.mobileappview.com/events/details/portage-brewery-paws-and-claws-12554
END:VEVENT

END:VCALENDAR
