BEGIN:VCALENDAR
VERSION:2.0
PRODID:-//ChamberMaster//Event Calendar 2.0//EN
METHOD:PUBLISH
X-PUBLISHED-TTL:P3D
REFRESH-INTERVAL:P3D
CALSCALE:GREGORIAN
BEGIN:VEVENT
DTSTART:20180202T000000Z
DTEND:20180202T020000Z
X-MICROSOFT-CDO-ALLDAYEVENT:FALSE
SUMMARY:Portage Brewery Trivia
DESCRIPTION:https://www.facebook.com/events/918481561649581/
X-ALT-DESC;FMTTYPE=text/html:https://www.facebook.com/events/918481561649581/
LOCATION:Portage Brewery
UID:e.11.12589
SEQUENCE:3
DTSTAMP:20260420T153926Z
URL:https://leechlake.mobileappview.com/events/details/portage-brewery-trivia-02-01-2018-12589
END:VEVENT

END:VCALENDAR
