BEGIN:VCALENDAR
VERSION:2.0
PRODID:-//ChamberMaster//Event Calendar 2.0//EN
METHOD:PUBLISH
X-PUBLISHED-TTL:P3D
REFRESH-INTERVAL:P3D
CALSCALE:GREGORIAN
BEGIN:VEVENT
DTSTART:20170527T170000Z
DTEND:20170528T020000Z
X-MICROSOFT-CDO-ALLDAYEVENT:FALSE
SUMMARY:Portage Brewing Company Grand Opening Party
DESCRIPTION:Grand Opening Party\n\n\n\nFood by Green Scene\n\nMusic by:  After 5  and The Norquists\n\n\n\nAll ages Welcome
X-ALT-DESC;FMTTYPE=text/html:Grand Opening Party<br />\n<br />\nFood by Green Scene<br />\nMusic by: &nbsp\;After 5 &nbsp\;and The Norquists<br />\n<br />\nAll ages Welcome
LOCATION:107 South 5th St. Walker\, MN
UID:e.11.9488
SEQUENCE:3
DTSTAMP:20260421T062014Z
URL:https://leechlake.mobileappview.com/events/details/portage-brewing-company-grand-opening-party-9488
END:VEVENT

END:VCALENDAR
