BEGIN:VCALENDAR
VERSION:2.0
PRODID:-//ChamberMaster//Event Calendar 2.0//EN
METHOD:PUBLISH
X-PUBLISHED-TTL:P3D
REFRESH-INTERVAL:P3D
CALSCALE:GREGORIAN
BEGIN:VEVENT
DTSTART;VALUE=DATE:20171202
DTEND;VALUE=DATE:20171203
TRANSP:TRANSPARENT
X-MICROSOFT-CDO-ALLDAYEVENT:TRUE
SUMMARY:Portage in the the Growler and Magazine Release Party
DESCRIPTION:Check us out on facebook
X-ALT-DESC;FMTTYPE=text/html:Check us out on facebook
LOCATION:Portage Brewery Walker\, MN
UID:e.11.12553
SEQUENCE:3
DTSTAMP:20260420T190143Z
URL:https://leechlake.mobileappview.com/events/details/portage-in-the-the-growler-and-magazine-release-party-12553
END:VEVENT

END:VCALENDAR
