BEGIN:VCALENDAR
VERSION:2.0
PRODID:-//ChamberMaster//Event Calendar 2.0//EN
METHOD:PUBLISH
X-PUBLISHED-TTL:P3D
REFRESH-INTERVAL:P3D
CALSCALE:GREGORIAN
BEGIN:VEVENT
DTSTART:20161024T180000Z
DTEND:20161024T203000Z
X-MICROSOFT-CDO-ALLDAYEVENT:FALSE
SUMMARY:Powerful tools for Caregivers
DESCRIPTION:Powerful tools for Caregivers is an educational program designed to provide you with the ed to take care of yourself.
X-ALT-DESC;FMTTYPE=text/html:Powerful tools for Caregivers is an educational program designed to provide you with the ed to take care of yourself.
LOCATION:Hackensack Hub Hackensack
UID:e.11.8893
SEQUENCE:3
DTSTAMP:20260421T173602Z
URL:https://leechlake.mobileappview.com/events/details/powerful-tools-for-caregivers-10-24-2016-8893
END:VEVENT

END:VCALENDAR
