BEGIN:VCALENDAR
VERSION:2.0
PRODID:-//ChamberMaster//Event Calendar 2.0//EN
METHOD:PUBLISH
X-PUBLISHED-TTL:P3D
REFRESH-INTERVAL:P3D
CALSCALE:GREGORIAN
BEGIN:VEVENT
DTSTART;VALUE=DATE:20171027
DTEND;VALUE=DATE:20171028
TRANSP:TRANSPARENT
X-MICROSOFT-CDO-ALLDAYEVENT:TRUE
SUMMARY:Preparing for the Holiday
DESCRIPTION:For people who have experienced a death and are looking for guidance on how to prepare for the holidays.  Lunch will be provided.
X-ALT-DESC;FMTTYPE=text/html:For people who have experienced a death and are looking for guidance on how to prepare for the holidays.&nbsp\; Lunch will be provided.
LOCATION:CHI St. Joseph's Health Park Rapids
UID:e.11.12152
SEQUENCE:3
DTSTAMP:20260420T220306Z
URL:https://leechlake.mobileappview.com/events/details/preparing-for-the-holiday-12152
END:VEVENT

END:VCALENDAR
