BEGIN:VCALENDAR
VERSION:2.0
PRODID:-//ChamberMaster//Event Calendar 2.0//EN
METHOD:PUBLISH
X-PUBLISHED-TTL:P3D
REFRESH-INTERVAL:P3D
CALSCALE:GREGORIAN
BEGIN:VEVENT
DTSTART:20180419T230000Z
DTEND:20180420T000000Z
X-MICROSOFT-CDO-ALLDAYEVENT:FALSE
SUMMARY:Preview to Preschool
DESCRIPTION:An introduction to preschool and pre kindergarten for parents and children
X-ALT-DESC;FMTTYPE=text/html:An introduction to preschool and pre kindergarten for parents and children
LOCATION:
UID:e.11.15153
SEQUENCE:3
DTSTAMP:20260420T122231Z
URL:https://leechlake.mobileappview.com/events/details/preview-to-preschool-15153
END:VEVENT

END:VCALENDAR
