BEGIN:VCALENDAR
VERSION:2.0
PRODID:-//ChamberMaster//Event Calendar 2.0//EN
METHOD:PUBLISH
X-PUBLISHED-TTL:P3D
REFRESH-INTERVAL:P3D
CALSCALE:GREGORIAN
BEGIN:VEVENT
DTSTART:20180912T223000Z
DTEND:20180913T000000Z
X-MICROSOFT-CDO-ALLDAYEVENT:FALSE
SUMMARY:Priority 50 Fish Fry
DESCRIPTION:
X-ALT-DESC;FMTTYPE=text/html:
LOCATION:First National Bank of Walker
UID:e.11.16858
SEQUENCE:3
DTSTAMP:20260420T050703Z
URL:https://leechlake.mobileappview.com/events/details/priority-50-fish-fry-16858
END:VEVENT

END:VCALENDAR
