BEGIN:VCALENDAR
VERSION:2.0
PRODID:-//ChamberMaster//Event Calendar 2.0//EN
METHOD:PUBLISH
X-PUBLISHED-TTL:P3D
REFRESH-INTERVAL:P3D
CALSCALE:GREGORIAN
BEGIN:VEVENT
DTSTART;VALUE=DATE:20190607
DTEND;VALUE=DATE:20190608
TRANSP:TRANSPARENT
X-MICROSOFT-CDO-ALLDAYEVENT:TRUE
SUMMARY:Priority Club Golf Tournament
DESCRIPTION:Priority Club Tournament
X-ALT-DESC;FMTTYPE=text/html:Priority Club Tournament
LOCATION:Tianna Country Club
UID:e.11.16887
SEQUENCE:3
DTSTAMP:20260419T152220Z
URL:https://leechlake.mobileappview.com/events/details/priority-club-golf-tournament-16887
END:VEVENT

END:VCALENDAR
