BEGIN:VCALENDAR
VERSION:2.0
PRODID:-//ChamberMaster//Event Calendar 2.0//EN
METHOD:PUBLISH
X-PUBLISHED-TTL:P3D
REFRESH-INTERVAL:P3D
CALSCALE:GREGORIAN
BEGIN:VEVENT
DTSTART:20180505T150000Z
DTEND:20180505T200000Z
X-MICROSOFT-CDO-ALLDAYEVENT:FALSE
SUMMARY:Purse and Jewelry Sale
DESCRIPTION:
X-ALT-DESC;FMTTYPE=text/html:
LOCATION:Walker Adult Day Care Services
UID:e.11.12044
SEQUENCE:3
DTSTAMP:20260420T110017Z
URL:https://leechlake.mobileappview.com/events/details/purse-and-jewelry-sale-12044
END:VEVENT

END:VCALENDAR
