BEGIN:VCALENDAR
VERSION:2.0
PRODID:-//ChamberMaster//Event Calendar 2.0//EN
METHOD:PUBLISH
X-PUBLISHED-TTL:P3D
REFRESH-INTERVAL:P3D
CALSCALE:GREGORIAN
BEGIN:VEVENT
DTSTART:20160707T160000Z
DTEND:20160708T000000Z
X-MICROSOFT-CDO-ALLDAYEVENT:FALSE
SUMMARY:Quilt Show
DESCRIPTION:The Crazy Quilters Guild of Park Rapids will host a quilt show in celebration of its 25th anniversary. The public is invited to view and learn the stories behind quilts created by guild members. NO ADMISSION CHARGE
X-ALT-DESC;FMTTYPE=text/html:The Crazy Quilters Guild of Park Rapids will host a quilt show in celebration of its 25th anniversary. The public is invited to view and learn the stories behind quilts created by guild members. NO ADMISSION CHARGE
LOCATION:Riverside United Methodist Church 1005 Park Ave N (Hwy 71 N) Park Rapids\, MN 56470
UID:e.11.8363
SEQUENCE:3
DTSTAMP:20260421T223258Z
URL:https://leechlake.mobileappview.com/events/details/quilt-show-07-07-2016-8363
END:VEVENT

END:VCALENDAR
