BEGIN:VCALENDAR
VERSION:2.0
PRODID:-//ChamberMaster//Event Calendar 2.0//EN
METHOD:PUBLISH
X-PUBLISHED-TTL:P3D
REFRESH-INTERVAL:P3D
CALSCALE:GREGORIAN
BEGIN:VEVENT
DTSTART:20170112T160000Z
DTEND:20170116T230000Z
X-MICROSOFT-CDO-ALLDAYEVENT:FALSE
SUMMARY:Quilting\, Stamping and Scrapbooking Getaway
DESCRIPTION:Open through the night for your crafting project work. Well lit Event Center with your own work station.Fully furnished cabin with kitchen\, fireplace\, flat screen TVs\, internet\, etc.
X-ALT-DESC;FMTTYPE=text/html:Open through the night for your crafting project work. Well lit Event Center with your own work station.Fully furnished cabin with kitchen\, fireplace\, flat screen TVs\, internet\, etc.
LOCATION:Bluewater Lodge 7051 Wintergreen Trail Walker\, MN 56484 218-547-2300
UID:e.11.8972
SEQUENCE:3
DTSTAMP:20260421T122457Z
URL:https://leechlake.mobileappview.com/events/details/quilting-stamping-and-scrapbooking-getaway-8972
END:VEVENT

END:VCALENDAR
