BEGIN:VCALENDAR
VERSION:2.0
PRODID:-//ChamberMaster//Event Calendar 2.0//EN
METHOD:PUBLISH
X-PUBLISHED-TTL:P3D
REFRESH-INTERVAL:P3D
CALSCALE:GREGORIAN
BEGIN:VEVENT
DTSTART:20190426T140000Z
DTEND:20190428T210000Z
X-MICROSOFT-CDO-ALLDAYEVENT:FALSE
SUMMARY:Reeds Gun Fair 2019
DESCRIPTION:Reeds Gun Fair 2019\n\nRice Creek Hunting Preserve - Little Falls\, MN\n\nThis Ultimate Sale & Expo is a three-day event that includes: Shooting Shows\, Exhibitions\, Try-Before-You-Buy Factory Test-Fire Gun Tents\, New Shooting Games\, Special allocations of Truckload Ammo\, Over 2\,000 guns on sale\, Tax-Free Gun Sale (Reeds pays your sales tax) and Sporting Clays!
X-ALT-DESC;FMTTYPE=text/html:<h2 style="text-align:center"><strong>Reeds Gun Fair 2019</strong></h2>\n\n<h3 style="text-align:center"><strong>Rice Creek Hunting Preserve - Little Falls\, MN</strong></h3>\n\n<div style="text-align:center"><strong>This Ultimate Sale &amp\; Expo is a three-day event that&nbsp\;includes:&nbsp\;</strong><span style="font-family:arial\; font-size:14px">Shooting Shows\, Exhibitions\, Try-Before-You-Buy Factory Test-Fire Gun Tents\, New Shooting Games\, Special allocations of Truckload Ammo\, Over 2\,000 guns on sale\, Tax-Free Gun Sale (Reeds pays your sales tax) and Sporting Clays!</span></div>\n
LOCATION:Rice Creek Hunting & Recreation 16543 Game Farm Rd Little Falls\, MN 56345
UID:e.11.16402
SEQUENCE:3
DTSTAMP:20260419T182835Z
URL:https://leechlake.mobileappview.com/events/details/reeds-gun-fair-2019-16402
END:VEVENT

END:VCALENDAR
