BEGIN:VCALENDAR
VERSION:2.0
PRODID:-//ChamberMaster//Event Calendar 2.0//EN
METHOD:PUBLISH
X-PUBLISHED-TTL:P3D
REFRESH-INTERVAL:P3D
CALSCALE:GREGORIAN
BEGIN:VEVENT
DTSTART:20161126T160000Z
DTEND:20161126T180000Z
X-MICROSOFT-CDO-ALLDAYEVENT:FALSE
SUMMARY:Reindeer Ramble - Festival of Lights
DESCRIPTION:Reindeer Ramble (noon - 3:00 pm)\n\nRegistration forms at the chamber or on leech-lake.com
X-ALT-DESC;FMTTYPE=text/html:Reindeer Ramble (noon - 3:00 pm)<br />\nRegistration forms at the chamber or on leech-lake.com<br />\n<br />\n&nbsp\;
LOCATION:Chase on the Lake Register 9:00 am Race 10:00 am
UID:e.11.5321
SEQUENCE:3
DTSTAMP:20260421T155207Z
URL:https://leechlake.mobileappview.com/events/details/reindeer-ramble-festival-of-lights-5321
END:VEVENT

END:VCALENDAR
