BEGIN:VCALENDAR
VERSION:2.0
PRODID:-//ChamberMaster//Event Calendar 2.0//EN
METHOD:PUBLISH
X-PUBLISHED-TTL:P3D
REFRESH-INTERVAL:P3D
CALSCALE:GREGORIAN
BEGIN:VEVENT
DTSTART:20171213T230000Z
DTEND:20171214T010000Z
X-MICROSOFT-CDO-ALLDAYEVENT:FALSE
SUMMARY:Retirement party - Meri Mengis
DESCRIPTION:Chase on the Lake is celebrating\n\nthe retirement of\n\nMeri Mengis
X-ALT-DESC;FMTTYPE=text/html:Chase on the Lake is celebrating<br />\nthe retirement of<br />\nMeri Mengis
LOCATION:the 502 Walker\, MN
UID:e.11.12513
SEQUENCE:3
DTSTAMP:20260420T190231Z
URL:https://leechlake.mobileappview.com/events/details/retirement-party-meri-mengis-12513
END:VEVENT

END:VCALENDAR
