BEGIN:VCALENDAR
VERSION:2.0
PRODID:-//ChamberMaster//Event Calendar 2.0//EN
METHOD:PUBLISH
X-PUBLISHED-TTL:P3D
REFRESH-INTERVAL:P3D
CALSCALE:GREGORIAN
BEGIN:VEVENT
DTSTART;VALUE=DATE:20170819
DTEND;VALUE=DATE:20170820
TRANSP:TRANSPARENT
X-MICROSOFT-CDO-ALLDAYEVENT:TRUE
SUMMARY:Ride for the Vets
DESCRIPTION:American Legion Riders Chapter #134\n\n7th Annual\n\nRide for Vets\n\nBenefits MN Veterans Causes.
X-ALT-DESC;FMTTYPE=text/html:American Legion Riders Chapter #134<br />\n7th Annual<br />\nRide for Vets<br />\nBenefits MN Veterans Causes.
LOCATION:Walker American Legion
UID:e.11.8353
SEQUENCE:3
DTSTAMP:20260421T011248Z
URL:https://leechlake.mobileappview.com/events/details/ride-for-the-vets-8353
END:VEVENT

END:VCALENDAR
