BEGIN:VCALENDAR
VERSION:2.0
PRODID:-//ChamberMaster//Event Calendar 2.0//EN
METHOD:PUBLISH
X-PUBLISHED-TTL:P3D
REFRESH-INTERVAL:P3D
CALSCALE:GREGORIAN
BEGIN:VEVENT
DTSTART:20180608T220000Z
DTEND:20180609T020000Z
X-MICROSOFT-CDO-ALLDAYEVENT:FALSE
SUMMARY:Roar With Lions Dinner/Concert
DESCRIPTION:Roar with the Lions Club!\n\nMusic by\n\nThe Whitesidewalls Rock N Roll Revue\n\nIncludes dinner\, dance and show\n\nSilent Auction
X-ALT-DESC;FMTTYPE=text/html:Roar with the Lions Club!<br />\nMusic by<br />\nThe Whitesidewalls Rock N Roll Revue<br />\nIncludes dinner\, dance and show<br />\nSilent Auction
LOCATION:Northern Lights Casino
UID:e.11.9158
SEQUENCE:3
DTSTAMP:20260420T091924Z
URL:https://leechlake.mobileappview.com/events/details/roar-with-lions-dinner-concert-9158
END:VEVENT

END:VCALENDAR
