BEGIN:VCALENDAR
VERSION:2.0
PRODID:-//ChamberMaster//Event Calendar 2.0//EN
METHOD:PUBLISH
X-PUBLISHED-TTL:P3D
REFRESH-INTERVAL:P3D
CALSCALE:GREGORIAN
BEGIN:VEVENT
DTSTART:20160610T220000Z
DTEND:20160611T020000Z
X-MICROSOFT-CDO-ALLDAYEVENT:FALSE
SUMMARY:Roar with the Lions Dinner
DESCRIPTION:Roar with the Walker Lions Club!\n\nMusic by The Whitesidewalls\, Rock and Roll Revue
X-ALT-DESC;FMTTYPE=text/html:Roar with the Walker Lions Club!<br />\nMusic by The Whitesidewalls\, Rock and Roll Revue
LOCATION:Northern LIghts Casino
UID:e.11.8330
SEQUENCE:3
DTSTAMP:20260421T235751Z
URL:https://leechlake.mobileappview.com/events/details/roar-with-the-lions-dinner-06-10-2016-8330
END:VEVENT

END:VCALENDAR
